BEGIN:VCALENDAR
VERSION:2.0
PRODID:-//Festival Bellovaques 2026 - ECPv6.15.20//NONSGML v1.0//EN
CALSCALE:GREGORIAN
METHOD:PUBLISH
X-WR-CALNAME:Festival Bellovaques 2026
X-ORIGINAL-URL:https://festivalbellovaques.fr
X-WR-CALDESC:Évènements pour Festival Bellovaques 2026
REFRESH-INTERVAL;VALUE=DURATION:PT1H
X-Robots-Tag:noindex
X-PUBLISHED-TTL:PT1H
BEGIN:VTIMEZONE
TZID:UTC
BEGIN:STANDARD
TZOFFSETFROM:+0000
TZOFFSETTO:+0000
TZNAME:UTC
DTSTART:20250101T000000
END:STANDARD
END:VTIMEZONE
BEGIN:VEVENT
DTSTART;TZID=UTC:20260612T190000
DTEND;TZID=UTC:20260613T120000
DTSTAMP:20260424T094634
CREATED:20260420T093449Z
LAST-MODIFIED:20260420T095328Z
UID:175-1781290800-1781352000@festivalbellovaques.fr
SUMMARY:Festival Bellovaques
DESCRIPTION:
URL:https://festivalbellovaques.fr/event/festival-bellovaques/
LOCATION:Théâtre de Plein air\, rue de Gesvres\,\, beauvais\, 60000\, France
CATEGORIES:festival
ORGANIZER;CN="Festival Bellovaques":MAILTO:beauvaiseventsv2.0@gmail.com
END:VEVENT
END:VCALENDAR